Package: MatrixQCvis Version: 1.14.0 Command: F:\biocbuild\bbs-3.20-bioc\R\bin\R.exe CMD check --no-multiarch --install=check:MatrixQCvis.install-out.txt --library=F:\biocbuild\bbs-3.20-bioc\R\library --no-vignettes --timings MatrixQCvis_1.14.0.tar.gz StartedAt: 2025-02-04 03:23:06 -0500 (Tue, 04 Feb 2025) EndedAt: 2025-02-04 03:28:59 -0500 (Tue, 04 Feb 2025) EllapsedTime: 353.0 seconds RetCode: 0 Status: OK CheckDir: MatrixQCvis.Rcheck Warnings: 0