Package: MatrixRider Version: 1.38.0 Command: /Library/Frameworks/R.framework/Resources/bin/R CMD build --keep-empty-dirs --no-resave-data MatrixRider StartedAt: 2025-02-03 20:03:07 -0500 (Mon, 03 Feb 2025) EndedAt: 2025-02-03 20:05:21 -0500 (Mon, 03 Feb 2025) EllapsedTime: 133.8 seconds RetCode: 0 Status: OK PackageFile: MatrixRider_1.38.0.tar.gz PackageFileSize: 264.1 KiB