Package: MatrixRider Version: 1.38.0 Command: /home/biocbuild/bbs-3.20-bioc/R/bin/R CMD INSTALL MatrixRider StartedAt: 2025-02-03 15:38:24 -0500 (Mon, 03 Feb 2025) EndedAt: 2025-02-03 15:39:05 -0500 (Mon, 03 Feb 2025) EllapsedTime: 41.3 seconds RetCode: 0 Status: OK