Package: MatrixRider Version: 1.38.0 Command: rm -rf MatrixRider.buildbin-libdir && mkdir MatrixRider.buildbin-libdir && F:\biocbuild\bbs-3.20-bioc\R\bin\R.exe CMD INSTALL --build --library=MatrixRider.buildbin-libdir MatrixRider_1.38.0.tar.gz StartedAt: 2025-02-04 08:51:16 -0500 (Tue, 04 Feb 2025) EndedAt: 2025-02-04 08:52:11 -0500 (Tue, 04 Feb 2025) EllapsedTime: 55.4 seconds RetCode: 0 Status: OK PackageFile: MatrixRider_1.38.0.zip PackageFileSize: 289.6 KiB