Package: MatrixRider Version: 1.38.0 Command: chmod a+r MatrixRider -R && F:\biocbuild\bbs-3.20-bioc\R\bin\R.exe CMD build --keep-empty-dirs --no-resave-data MatrixRider StartedAt: 2025-02-03 20:09:06 -0500 (Mon, 03 Feb 2025) EndedAt: 2025-02-03 20:10:30 -0500 (Mon, 03 Feb 2025) EllapsedTime: 83.8 seconds RetCode: 0 Status: OK PackageFile: MatrixRider_1.38.0.tar.gz PackageFileSize: 265.3 KiB