Package: MatrixRider Version: 1.38.0 Command: /home/biocbuild/R/R/bin/R CMD build --keep-empty-dirs --no-resave-data MatrixRider StartedAt: 2025-02-04 00:40:48 -0000 (Tue, 04 Feb 2025) EndedAt: 2025-02-04 00:41:59 -0000 (Tue, 04 Feb 2025) EllapsedTime: 71.0 seconds RetCode: 0 Status: OK PackageFile: MatrixRider_1.38.0.tar.gz PackageFileSize: 251.8 KiB