Package: MatrixRider Version: 1.38.0 Command: /home/biocbuild/R/R/bin/R CMD INSTALL MatrixRider StartedAt: 2025-02-03 20:46:22 -0000 (Mon, 03 Feb 2025) EndedAt: 2025-02-03 20:47:12 -0000 (Mon, 03 Feb 2025) EllapsedTime: 50.0 seconds RetCode: 0 Status: OK