Package: MeSHDbi Version: 1.42.0 Command: /Library/Frameworks/R.framework/Resources/bin/R CMD build --keep-empty-dirs --no-resave-data MeSHDbi StartedAt: 2025-02-04 02:46:11 -0500 (Tue, 04 Feb 2025) EndedAt: 2025-02-04 02:46:32 -0500 (Tue, 04 Feb 2025) EllapsedTime: 21.8 seconds RetCode: 0 Status: OK PackageFile: MeSHDbi_1.42.0.tar.gz PackageFileSize: 119.9 KiB