Package: MeasurementError.cor Version: 1.78.0 Command: rm -rf MeasurementError.cor.buildbin-libdir && mkdir MeasurementError.cor.buildbin-libdir && /Users/biocbuild/BBS/utils/build-universal.sh MeasurementError.cor_1.78.0.tar.gz /Library/Frameworks/R.framework/Resources/bin/R MeasurementError.cor.buildbin-libdir StartedAt: 2025-02-04 13:21:20 -0500 (Tue, 04 Feb 2025) EndedAt: 2025-02-04 13:21:28 -0500 (Tue, 04 Feb 2025) EllapsedTime: 8.4 seconds RetCode: 0 Status: OK PackageFile: MeasurementError.cor_1.78.0.tgz PackageFileSize: 173.4 KiB