Package: MeasurementError.cor Version: 1.78.0 Command: /Library/Frameworks/R.framework/Resources/bin/R CMD build --keep-empty-dirs --no-resave-data MeasurementError.cor StartedAt: 2025-02-03 20:05:58 -0500 (Mon, 03 Feb 2025) EndedAt: 2025-02-03 20:06:18 -0500 (Mon, 03 Feb 2025) EllapsedTime: 19.8 seconds RetCode: 0 Status: OK PackageFile: MeasurementError.cor_1.78.0.tar.gz PackageFileSize: 150.7 KiB