Package: MeasurementError.cor Version: 1.78.0 Command: /Library/Frameworks/R.framework/Resources/bin/R CMD check --install=check:MeasurementError.cor.install-out.txt --library=/Library/Frameworks/R.framework/Resources/library --no-vignettes --timings MeasurementError.cor_1.78.0.tar.gz StartedAt: 2025-02-04 05:55:30 -0500 (Tue, 04 Feb 2025) EndedAt: 2025-02-04 05:56:10 -0500 (Tue, 04 Feb 2025) EllapsedTime: 39.9 seconds RetCode: 0 Status: OK CheckDir: MeasurementError.cor.Rcheck Warnings: 0