Package: MeasurementError.cor Version: 1.78.0 Command: /Library/Frameworks/R.framework/Resources/bin/R CMD INSTALL MeasurementError.cor StartedAt: 2025-02-03 15:16:52 -0500 (Mon, 03 Feb 2025) EndedAt: 2025-02-03 15:17:06 -0500 (Mon, 03 Feb 2025) EllapsedTime: 13.8 seconds RetCode: 0 Status: OK