Package: MeasurementError.cor Version: 1.78.0 Command: rm -rf MeasurementError.cor.buildbin-libdir && mkdir MeasurementError.cor.buildbin-libdir && F:\biocbuild\bbs-3.20-bioc\R\bin\R.exe CMD INSTALL --build --library=MeasurementError.cor.buildbin-libdir MeasurementError.cor_1.78.0.tar.gz StartedAt: 2025-02-04 08:52:02 -0500 (Tue, 04 Feb 2025) EndedAt: 2025-02-04 08:52:13 -0500 (Tue, 04 Feb 2025) EllapsedTime: 10.6 seconds RetCode: 0 Status: OK PackageFile: MeasurementError.cor_1.78.0.zip PackageFileSize: 74.32 KiB