Package: MeasurementError.cor Version: 1.78.0 Command: /home/biocbuild/R/R/bin/R CMD check --install=check:MeasurementError.cor.install-out.txt --library=/home/biocbuild/R/R/site-library --no-vignettes --timings MeasurementError.cor_1.78.0.tar.gz StartedAt: 2025-02-04 08:31:04 -0000 (Tue, 04 Feb 2025) EndedAt: 2025-02-04 08:31:20 -0000 (Tue, 04 Feb 2025) EllapsedTime: 16.0 seconds RetCode: 0 Status: OK CheckDir: MeasurementError.cor.Rcheck Warnings: 0