Package: MeasurementError.cor Version: 1.78.0 Command: /home/biocbuild/R/R/bin/R CMD INSTALL MeasurementError.cor StartedAt: 2025-02-03 20:25:42 -0000 (Mon, 03 Feb 2025) EndedAt: 2025-02-03 20:25:54 -0000 (Mon, 03 Feb 2025) EllapsedTime: 12.3 seconds RetCode: 0 Status: OK