Package: MeasurementError.cor Version: 1.78.0 Command: /home/biocbuild/bbs-3.20-bioc/R/bin/R CMD build --keep-empty-dirs --no-resave-data MeasurementError.cor StartedAt: 2024-11-19 19:54:12 -0500 (Tue, 19 Nov 2024) EndedAt: 2024-11-19 19:54:19 -0500 (Tue, 19 Nov 2024) EllapsedTime: 7.0 seconds RetCode: 0 Status: OK PackageFile: MeasurementError.cor_1.78.0.tar.gz PackageFileSize: 150.6 KiB