Package: Melissa Version: 1.22.0 Command: /home/biocbuild/bbs-3.20-bioc/R/bin/R CMD INSTALL Melissa StartedAt: 2025-02-03 15:51:01 -0500 (Mon, 03 Feb 2025) EndedAt: 2025-02-03 15:51:20 -0500 (Mon, 03 Feb 2025) EllapsedTime: 19.1 seconds RetCode: 0 Status: OK