Package: Melissa Version: 1.22.0 Command: /home/biocbuild/R/R/bin/R CMD INSTALL Melissa StartedAt: 2025-02-03 21:05:29 -0000 (Mon, 03 Feb 2025) EndedAt: 2025-02-03 21:05:54 -0000 (Mon, 03 Feb 2025) EllapsedTime: 24.2 seconds RetCode: 0 Status: OK