Package: Mergeomics Version: 1.34.0 Command: rm -rf Mergeomics.buildbin-libdir && mkdir Mergeomics.buildbin-libdir && /Users/biocbuild/BBS/utils/build-universal.sh Mergeomics_1.34.0.tar.gz /Library/Frameworks/R.framework/Resources/bin/R Mergeomics.buildbin-libdir StartedAt: 2025-02-04 13:22:20 -0500 (Tue, 04 Feb 2025) EndedAt: 2025-02-04 13:22:39 -0500 (Tue, 04 Feb 2025) EllapsedTime: 18.2 seconds RetCode: 0 Status: OK PackageFile: Mergeomics_1.34.0.tgz PackageFileSize: 3.416 MiB