Package: Mergeomics Version: 1.34.0 Command: chmod a+r Mergeomics -R && F:\biocbuild\bbs-3.20-bioc\R\bin\R.exe CMD build --keep-empty-dirs --no-resave-data Mergeomics StartedAt: 2025-02-03 20:12:29 -0500 (Mon, 03 Feb 2025) EndedAt: 2025-02-03 20:20:05 -0500 (Mon, 03 Feb 2025) EllapsedTime: 456.3 seconds RetCode: 0 Status: OK PackageFile: Mergeomics_1.34.0.tar.gz PackageFileSize: 3.117 MiB