Package: Mergeomics Version: 1.34.0 Command: F:\biocbuild\bbs-3.20-bioc\R\bin\R.exe CMD check --no-multiarch --install=check:Mergeomics.install-out.txt --library=F:\biocbuild\bbs-3.20-bioc\R\library --no-vignettes --timings Mergeomics_1.34.0.tar.gz StartedAt: 2025-02-04 03:28:48 -0500 (Tue, 04 Feb 2025) EndedAt: 2025-02-04 03:38:33 -0500 (Tue, 04 Feb 2025) EllapsedTime: 585.3 seconds RetCode: 0 Status: OK CheckDir: Mergeomics.Rcheck Warnings: 0