Package: MesKit Version: 1.16.0 Command: /Library/Frameworks/R.framework/Resources/bin/R CMD INSTALL MesKit StartedAt: 2025-02-03 16:19:38 -0500 (Mon, 03 Feb 2025) EndedAt: 2025-02-03 16:20:02 -0500 (Mon, 03 Feb 2025) EllapsedTime: 24.4 seconds RetCode: 0 Status: OK