Package: MesKit Version: 1.16.0 Command: /Library/Frameworks/R.framework/Resources/bin/R CMD check --install=check:MesKit.install-out.txt --library=/Library/Frameworks/R.framework/Resources/library --no-vignettes --timings MesKit_1.16.0.tar.gz StartedAt: 2025-02-04 06:00:55 -0500 (Tue, 04 Feb 2025) EndedAt: 2025-02-04 06:23:16 -0500 (Tue, 04 Feb 2025) EllapsedTime: 1341.3 seconds RetCode: 0 Status: WARNINGS CheckDir: MesKit.Rcheck Warnings: 1