Package: MesKit Version: 1.16.0 Command: /home/biocbuild/bbs-3.20-bioc/R/bin/R CMD check --install=check:MesKit.install-out.txt --library=/home/biocbuild/bbs-3.20-bioc/R/site-library --timings MesKit_1.16.0.tar.gz StartedAt: 2025-02-03 23:53:59 -0500 (Mon, 03 Feb 2025) EndedAt: 2025-02-04 00:03:18 -0500 (Tue, 04 Feb 2025) EllapsedTime: 558.6 seconds RetCode: 0 Status: WARNINGS CheckDir: MesKit.Rcheck Warnings: 1