Package: MesKit Version: 1.16.0 Command: /home/biocbuild/bbs-3.20-bioc/R/bin/R CMD INSTALL MesKit StartedAt: 2025-02-03 15:35:14 -0500 (Mon, 03 Feb 2025) EndedAt: 2025-02-03 15:35:35 -0500 (Mon, 03 Feb 2025) EllapsedTime: 21.4 seconds RetCode: 0 Status: OK