Package: MesKit Version: 1.16.0 Command: /home/biocbuild/R/R/bin/R CMD build --keep-empty-dirs --no-resave-data MesKit StartedAt: 2025-02-18 00:44:37 -0000 (Tue, 18 Feb 2025) EndedAt: 2025-02-18 00:46:33 -0000 (Tue, 18 Feb 2025) EllapsedTime: 116.1 seconds RetCode: 0 Status: OK PackageFile: MesKit_1.16.0.tar.gz PackageFileSize: 2.762 <A href="http://en.wikipedia.org/wiki/MiB" target="_blank">MiB</A>