Package: MetCirc Version: 1.36.0 Command: rm -rf MetCirc.buildbin-libdir && mkdir MetCirc.buildbin-libdir && /Users/biocbuild/BBS/utils/build-universal.sh MetCirc_1.36.0.tar.gz /Library/Frameworks/R.framework/Resources/bin/R MetCirc.buildbin-libdir StartedAt: 2025-02-04 13:23:08 -0500 (Tue, 04 Feb 2025) EndedAt: 2025-02-04 13:23:48 -0500 (Tue, 04 Feb 2025) EllapsedTime: 40.0 seconds RetCode: 0 Status: OK PackageFile: MetCirc_1.36.0.tgz PackageFileSize: 1.922 MiB