Package: MetCirc Version: 1.36.0 Command: /home/biocbuild/bbs-3.20-bioc/R/bin/R CMD build --keep-empty-dirs --no-resave-data --md5 MetCirc StartedAt: 2025-02-03 18:08:17 -0500 (Mon, 03 Feb 2025) EndedAt: 2025-02-03 18:09:17 -0500 (Mon, 03 Feb 2025) EllapsedTime: 60.1 seconds RetCode: 0 Status: OK PackageFile: MetCirc_1.36.0.tar.gz PackageFileSize: 2.069 MiB