Package: MetCirc
Version: 1.35.0
Command: F:\biocbuild\bbs-3.20-bioc\R\bin\R.exe CMD INSTALL MetCirc
StartedAt: 2024-06-09 16:16:29 -0400 (Sun, 09 Jun 2024)
EndedAt: 2024-06-09 16:16:53 -0400 (Sun, 09 Jun 2024)
EllapsedTime: 23.5 seconds
RetCode: 0
Status: OK