Package: MetCirc Version: 1.36.0 Command: rm -rf MetCirc.buildbin-libdir && mkdir MetCirc.buildbin-libdir && F:\biocbuild\bbs-3.20-bioc\R\bin\R.exe CMD INSTALL --build --library=MetCirc.buildbin-libdir MetCirc_1.36.0.tar.gz StartedAt: 2025-02-04 08:53:25 -0500 (Tue, 04 Feb 2025) EndedAt: 2025-02-04 08:53:49 -0500 (Tue, 04 Feb 2025) EllapsedTime: 24.2 seconds RetCode: 0 Status: OK PackageFile: MetCirc_1.36.0.zip PackageFileSize: 1.932 MiB