Package: MetCirc Version: 1.36.0 Command: F:\biocbuild\bbs-3.20-bioc\R\bin\R.exe CMD INSTALL MetCirc StartedAt: 2025-02-03 15:54:45 -0500 (Mon, 03 Feb 2025) EndedAt: 2025-02-03 15:55:11 -0500 (Mon, 03 Feb 2025) EllapsedTime: 25.7 seconds RetCode: 0 Status: OK