Package: MetCirc Version: 1.36.0 Command: /home/biocbuild/R/R/bin/R CMD INSTALL MetCirc StartedAt: 2025-02-03 20:54:15 -0000 (Mon, 03 Feb 2025) EndedAt: 2025-02-03 20:54:31 -0000 (Mon, 03 Feb 2025) EllapsedTime: 15.5 seconds RetCode: 0 Status: OK