Package: MetID Version: 1.24.0 Command: /Library/Frameworks/R.framework/Resources/bin/R CMD build --keep-empty-dirs --no-resave-data MetID StartedAt: 2025-02-03 20:15:09 -0500 (Mon, 03 Feb 2025) EndedAt: 2025-02-03 20:16:31 -0500 (Mon, 03 Feb 2025) EllapsedTime: 82.5 seconds RetCode: 0 Status: OK PackageFile: MetID_1.24.0.tar.gz PackageFileSize: 1.504 MiB