Package: MetID Version: 1.24.0 Command: /Library/Frameworks/R.framework/Resources/bin/R CMD INSTALL MetID StartedAt: 2025-02-03 16:40:44 -0500 (Mon, 03 Feb 2025) EndedAt: 2025-02-03 16:41:08 -0500 (Mon, 03 Feb 2025) EllapsedTime: 24.4 seconds RetCode: 0 Status: OK