Package: MetID Version: 1.24.0 Command: rm -rf MetID.buildbin-libdir && mkdir MetID.buildbin-libdir && F:\biocbuild\bbs-3.20-bioc\R\bin\R.exe CMD INSTALL --build --library=MetID.buildbin-libdir MetID_1.24.0.tar.gz StartedAt: 2025-02-04 08:54:37 -0500 (Tue, 04 Feb 2025) EndedAt: 2025-02-04 08:55:00 -0500 (Tue, 04 Feb 2025) EllapsedTime: 22.7 seconds RetCode: 0 Status: OK PackageFile: MetID_1.24.0.zip PackageFileSize: 1.736 MiB