Package: MetID Version: 1.24.0 Command: /home/biocbuild/R/R/bin/R CMD build --keep-empty-dirs --no-resave-data MetID StartedAt: 2025-02-04 00:54:22 -0000 (Tue, 04 Feb 2025) EndedAt: 2025-02-04 00:55:02 -0000 (Tue, 04 Feb 2025) EllapsedTime: 40.0 seconds RetCode: 0 Status: OK PackageFile: MetID_1.24.0.tar.gz PackageFileSize: 1.505 MiB