Package: MetID Version: 1.24.0 Command: /home/biocbuild/R/R/bin/R CMD INSTALL MetID StartedAt: 2025-02-03 21:17:40 -0000 (Mon, 03 Feb 2025) EndedAt: 2025-02-03 21:17:54 -0000 (Mon, 03 Feb 2025) EllapsedTime: 14.1 seconds RetCode: 0 Status: OK