Package: MetaNeighbor Version: 1.26.0 Command: /Library/Frameworks/R.framework/Resources/bin/R CMD check --install=check:MetaNeighbor.install-out.txt --library=/Library/Frameworks/R.framework/Resources/library --no-vignettes --timings MetaNeighbor_1.26.0.tar.gz StartedAt: 2025-02-05 01:09:09 -0500 (Wed, 05 Feb 2025) EndedAt: 2025-02-05 01:11:31 -0500 (Wed, 05 Feb 2025) EllapsedTime: 141.8 seconds RetCode: 0 Status: OK CheckDir: MetaNeighbor.Rcheck Warnings: 0