Package: MetaNeighbor Version: 1.26.0 Command: /Library/Frameworks/R.framework/Resources/bin/R CMD build --keep-empty-dirs --no-resave-data MetaNeighbor StartedAt: 2025-02-03 20:09:36 -0500 (Mon, 03 Feb 2025) EndedAt: 2025-02-03 20:10:45 -0500 (Mon, 03 Feb 2025) EllapsedTime: 69.0 seconds RetCode: 0 Status: OK PackageFile: MetaNeighbor_1.26.0.tar.gz PackageFileSize: 3.195 MiB