Package: MetaNeighbor Version: 1.26.0 Command: /Library/Frameworks/R.framework/Resources/bin/R CMD check --install=check:MetaNeighbor.install-out.txt --library=/Library/Frameworks/R.framework/Resources/library --no-vignettes --timings MetaNeighbor_1.26.0.tar.gz StartedAt: 2025-02-04 06:05:13 -0500 (Tue, 04 Feb 2025) EndedAt: 2025-02-04 06:08:22 -0500 (Tue, 04 Feb 2025) EllapsedTime: 189.6 seconds RetCode: 0 Status: OK CheckDir: MetaNeighbor.Rcheck Warnings: 0