Package: MetaNeighbor Version: 1.26.0 Command: rm -rf MetaNeighbor.buildbin-libdir && mkdir MetaNeighbor.buildbin-libdir && F:\biocbuild\bbs-3.20-bioc\R\bin\R.exe CMD INSTALL --build --library=MetaNeighbor.buildbin-libdir MetaNeighbor_1.26.0.tar.gz StartedAt: 2025-02-04 08:53:04 -0500 (Tue, 04 Feb 2025) EndedAt: 2025-02-04 08:53:39 -0500 (Tue, 04 Feb 2025) EllapsedTime: 35.0 seconds RetCode: 0 Status: OK PackageFile: MetaNeighbor_1.26.0.zip PackageFileSize: 4.171 MiB