Package: MetaNeighbor Version: 1.26.0 Command: chmod a+r MetaNeighbor -R && F:\biocbuild\bbs-3.20-bioc\R\bin\R.exe CMD build --keep-empty-dirs --no-resave-data MetaNeighbor StartedAt: 2025-02-03 20:14:21 -0500 (Mon, 03 Feb 2025) EndedAt: 2025-02-03 20:15:18 -0500 (Mon, 03 Feb 2025) EllapsedTime: 57.0 seconds RetCode: 0 Status: OK PackageFile: MetaNeighbor_1.26.0.tar.gz PackageFileSize: 3.197 MiB