Package: MetaNeighbor Version: 1.26.0 Command: /home/biocbuild/R/R/bin/R CMD build --keep-empty-dirs --no-resave-data MetaNeighbor StartedAt: 2025-02-04 00:47:52 -0000 (Tue, 04 Feb 2025) EndedAt: 2025-02-04 00:51:28 -0000 (Tue, 04 Feb 2025) EllapsedTime: 216.1 seconds RetCode: 0 Status: OK PackageFile: MetaNeighbor_1.26.0.tar.gz PackageFileSize: 3.184 MiB