Package: MetaNeighbor Version: 1.26.0 Command: /home/biocbuild/R/R/bin/R CMD check --install=check:MetaNeighbor.install-out.txt --library=/home/biocbuild/R/R/site-library --no-vignettes --timings MetaNeighbor_1.26.0.tar.gz StartedAt: 2025-02-04 08:36:13 -0000 (Tue, 04 Feb 2025) EndedAt: 2025-02-04 08:47:20 -0000 (Tue, 04 Feb 2025) EllapsedTime: 666.8 seconds RetCode: 0 Status: OK CheckDir: MetaNeighbor.Rcheck Warnings: 0