Package: MetaPhOR Version: 1.8.0 Command: rm -rf MetaPhOR.buildbin-libdir && mkdir MetaPhOR.buildbin-libdir && /Users/biocbuild/BBS/utils/build-universal.sh MetaPhOR_1.8.0.tar.gz /Library/Frameworks/R.framework/Resources/bin/R MetaPhOR.buildbin-libdir StartedAt: 2025-02-05 16:34:23 -0500 (Wed, 05 Feb 2025) EndedAt: 2025-02-05 16:34:56 -0500 (Wed, 05 Feb 2025) EllapsedTime: 32.7 seconds RetCode: 0 Status: OK PackageFile: MetaPhOR_1.8.0.tgz PackageFileSize: 2.77 MiB