Package: MetaPhOR Version: 1.8.0 Command: /Library/Frameworks/R.framework/Resources/bin/R CMD build --keep-empty-dirs --no-resave-data MetaPhOR StartedAt: 2025-02-04 02:52:48 -0500 (Tue, 04 Feb 2025) EndedAt: 2025-02-04 03:11:44 -0500 (Tue, 04 Feb 2025) EllapsedTime: 1135.7 seconds RetCode: 0 Status: OK PackageFile: MetaPhOR_1.8.0.tar.gz PackageFileSize: 2.744 MiB