Package: MetaPhOR Version: 1.8.0 Command: /Library/Frameworks/R.framework/Resources/bin/R CMD INSTALL MetaPhOR StartedAt: 2025-02-03 17:36:55 -0500 (Mon, 03 Feb 2025) EndedAt: 2025-02-03 17:37:23 -0500 (Mon, 03 Feb 2025) EllapsedTime: 27.8 seconds RetCode: 0 Status: OK