Package: MetaPhOR
Version: 1.8.0
Command: /home/biocbuild/R/R/bin/R CMD build --keep-empty-dirs --no-resave-data MetaPhOR
StartedAt: 2024-11-20 01:57:30 -0000 (Wed, 20 Nov 2024)
EndedAt: 2024-11-20 02:16:44 -0000 (Wed, 20 Nov 2024)
EllapsedTime: 1154.5 seconds
RetCode: 0
Status: OK
PackageFile: MetaPhOR_1.8.0.tar.gz
PackageFileSize: 2.195 <A href="http://en.wikipedia.org/wiki/MiB" target="_blank">MiB</A>