Package: MetaPhOR
Version: 1.7.0
Command: C:\Users\biocbuild\bbs-3.20-bioc\R\bin\R.exe CMD INSTALL MetaPhOR
StartedAt: 2024-07-15 16:06:44 -0400 (Mon, 15 Jul 2024)
EndedAt: 2024-07-15 16:07:13 -0400 (Mon, 15 Jul 2024)
EllapsedTime: 28.9 seconds
RetCode: 0
Status: OK