Package: MetaPhOR Version: 1.8.0 Command: F:\biocbuild\bbs-3.20-bioc\R\bin\R.exe CMD INSTALL MetaPhOR StartedAt: 2025-02-03 16:14:47 -0500 (Mon, 03 Feb 2025) EndedAt: 2025-02-03 16:15:21 -0500 (Mon, 03 Feb 2025) EllapsedTime: 33.9 seconds RetCode: 0 Status: OK